BEGIN:VCALENDAR
VERSION:2.0
PRODID:-//ChamberMaster//Event Calendar 2.0//EN
METHOD:PUBLISH
X-PUBLISHED-TTL:P3D
REFRESH-INTERVAL:P3D
CALSCALE:GREGORIAN
BEGIN:VEVENT
DTSTART:20241011T180000Z
DTEND:20241011T200000Z
X-MICROSOFT-CDO-ALLDAYEVENT:FALSE
SUMMARY:Ribbon Cutting @ Oh My Beauty
DESCRIPTION:Join us on Friday\, October 11 for a Ribbon Cutting to celebrate Oh My Beauty\, with refreshments\, specials\, and more! \n\n\n\nOh My Beauty is a salon in Pell City that offers eyelash extensions\, brow tint\, and *coming soon* lip filler! A hairstylist is also available by appointment. \n\n\n\nOwner Jerrica Hamilton had a successful salon in Vincent for two years and has recently moved her shop to Pell City. \n\nSame-day appointments are welcome at the salon suites. \n\n\n\nCall or text 205-705-8273 for more information! \n\nVisit them online:\n\nhttps://ohmybeautyco.square.site/\n\nFacebook Oh My Beauty \n\nInstagram @jerricaohmy\n\nTikTok @jerricaohmy
X-ALT-DESC;FMTTYPE=text/html:<h3>Join us on Friday\, October 11 for a Ribbon Cutting to celebrate Oh My Beauty\, with refreshments\, specials\, and more!&nbsp\;<br />\n<br />\nOh My Beauty is a salon in Pell City that offers eyelash extensions\, brow tint\, and *coming soon* lip filler! A hairstylist is also available by appointment.&nbsp\;<br />\n<br />\nOwner Jerrica Hamilton had a successful salon in Vincent for two years and has recently moved her shop to Pell City.&nbsp\;<br />\nSame-day appointments are welcome at the salon suites.&nbsp\;<br />\n<br />\nCall or text 205-705-8273 for more information!&nbsp\;<br />\nVisit them online:<br />\nhttps://ohmybeautyco.square.site/<br />\nFacebook Oh My Beauty&nbsp\;<br />\nInstagram @jerricaohmy<br />\nTikTok @jerricaohmy</h3>\n
LOCATION:3440 Martin Street South Suite 15 Cropwell\, AL 35054
UID:e.1837.5765
SEQUENCE:3
DTSTAMP:20260423T210133Z
URL:http://business.pellcitychamber.com/events/details/ribbon-cutting-oh-my-beauty-5765
END:VEVENT

END:VCALENDAR
