BEGIN:VCALENDAR
VERSION:2.0
PRODID:-//ChamberMaster//Event Calendar 2.0//EN
METHOD:PUBLISH
X-PUBLISHED-TTL:P3D
REFRESH-INTERVAL:P3D
CALSCALE:GREGORIAN
BEGIN:VEVENT
DTSTART;VALUE=DATE:20260305
DTEND;VALUE=DATE:20260801
TRANSP:TRANSPARENT
X-MICROSOFT-CDO-ALLDAYEVENT:TRUE
SUMMARY:New Adult Library Card Competition
DESCRIPTION:THE SEARCH IS ON!!!\n\nThe Pell City Library invites all local creatives to help design our new Adult Library Card!\n\n\n\nThe 1st and 2nd place winners will be featured on our large and keychain sized Adult Library Cards.\n\n\n\nSubmissions are now open and all the rules/regulations can be found the library's website\, at the circulation desk\, or via this link: https://forms.gle/tyvrvUvQx8kDU1b57.\n\n\n\nNow is your time to show your city your talent!
X-ALT-DESC;FMTTYPE=text/html:<span style="font-size:28px"><strong><span style="background-color:rgb(255\, 255\, 255)\; color:rgb(66\, 66\, 66)\; font-family:arial\,helvetica\,sans-serif">THE SEARCH IS ON!!!</span></strong></span><br />\n<span style="font-size:18px"><span style="background-color:rgb(255\, 255\, 255)\; color:rgb(66\, 66\, 66)\; font-family:arial\,helvetica\,sans-serif">The Pell City Library invites all local creatives to help design our new Adult Library Card!</span><br />\n<br />\n<span style="background-color:rgb(255\, 255\, 255)\; color:rgb(66\, 66\, 66)\; font-family:arial\,helvetica\,sans-serif">The 1st and 2nd place winners will be featured on our large and keychain sized Adult Library Cards.</span><br />\n<br />\n<span style="background-color:rgb(255\, 255\, 255)\; color:rgb(66\, 66\, 66)\; font-family:arial\,helvetica\,sans-serif">Submissions are now open and all the rules/regulations can be found the library&#39\;s website\, at the circulation desk\, or via this link: <a href="https://forms.gle/tyvrvUvQx8kDU1b57">https://forms.gle/tyvrvUvQx8kDU1b57</a>.</span><br />\n<br />\n<span style="background-color:rgb(255\, 255\, 255)\; color:rgb(66\, 66\, 66)\; font-family:arial\,helvetica\,sans-serif"><em>Now is your time to show your city your talent!</em></span></span><br />\n&nbsp\;
LOCATION:1000 Bruce Etheredge Pkwy #100\, Pell City\, AL 35128
UID:e.1837.6211
SEQUENCE:3
DTSTAMP:20260424T045254Z
URL:http://business.pellcitychamber.com/events/details/new-adult-library-card-competition-6211
END:VEVENT

END:VCALENDAR
